BEGIN:VCALENDAR
VERSION:2.0
PRODID:-//Sabre//Sabre VObject 4.5.8//EN
CALSCALE:GREGORIAN
BEGIN:VEVENT
UID:sabre-vobject-b7a85629-9f66-4bcb-afa2-ecb6db15e46f
DTSTAMP:20260423T120531Z
SUMMARY:Rosenkranz und Beichtgelegenheit
DESCRIPTION:https://pfarreien-bistum-augsburg.df-preview.de/rosenkranz-und-
 beichtgelegenheit_id1668581
DTSTART;TZID=Europe/Berlin:20260320T180000
DURATION:PT30M
LOCATION:St. Martin\, Pfarrhofplatz 11\, 89312 Günzburg
END:VEVENT
END:VCALENDAR
