BEGIN:VCALENDAR
VERSION:2.0
PRODID:-//Sabre//Sabre VObject 4.5.8//EN
CALSCALE:GREGORIAN
BEGIN:VEVENT
UID:sabre-vobject-1005a198-2423-4c21-b122-7691236d7413
DTSTAMP:20260422T230153Z
SUMMARY:Hl. Messe
DESCRIPTION:https://pfarreien-bistum-augsburg.df-preview.de/hl-messe_id1668
 558
DTSTART;TZID=Europe/Berlin:20260319T180000
DURATION:PT30M
LOCATION:St. Martin\, Jahnstraße 1\, 86836 Lagerlechfeld
END:VEVENT
END:VCALENDAR
