BEGIN:VCALENDAR
VERSION:2.0
PRODID:-//Sabre//Sabre VObject 4.5.8//EN
CALSCALE:GREGORIAN
BEGIN:VEVENT
UID:sabre-vobject-c92634ca-dd1c-42bc-a9ae-aca05a538ae9
DTSTAMP:20260423T115700Z
SUMMARY:Rosenkranz
DESCRIPTION:https://pfarreien-bistum-augsburg.df-preview.de/rosenkranz_id16
 68446
DTSTART;TZID=Europe/Berlin:20260321T180000
DURATION:PT30M
LOCATION:St. Ulrich
END:VEVENT
END:VCALENDAR
