BEGIN:VCALENDAR
VERSION:2.0
PRODID:-//Sabre//Sabre VObject 4.5.8//EN
CALSCALE:GREGORIAN
BEGIN:VEVENT
UID:sabre-vobject-b6a62797-af6b-405b-91ab-1bcc1115df93
DTSTAMP:20260422T052131Z
SUMMARY:Rosenkranz
DESCRIPTION:https://pfarreien-bistum-augsburg.df-preview.de/rosenkranz_id16
 68365
DTSTART;TZID=Europe/Berlin:20260319T175500
DURATION:PT30M
LOCATION:St. Martin
END:VEVENT
END:VCALENDAR
