BEGIN:VCALENDAR
VERSION:2.0
PRODID:-//Sabre//Sabre VObject 4.5.8//EN
CALSCALE:GREGORIAN
BEGIN:VEVENT
UID:sabre-vobject-dffbfa6a-b8ac-4921-954e-de27efcc78fb
DTSTAMP:20260425T012849Z
SUMMARY:Fatimarosenkranz
DESCRIPTION:https://pfarreien-bistum-augsburg.df-preview.de/fatimarosenkran
 z_id1668345
DTSTART;TZID=Europe/Berlin:20260413T160000
DURATION:PT30M
LOCATION:Mariä Himmelfahrt\, Kirchplatz 8\, 82269 Walleshausen
END:VEVENT
END:VCALENDAR
