BEGIN:VCALENDAR
VERSION:2.0
PRODID:-//Sabre//Sabre VObject 4.5.8//EN
CALSCALE:GREGORIAN
BEGIN:VEVENT
UID:sabre-vobject-2f0585db-49f9-4a9c-8187-c41079993bda
DTSTAMP:20260425T015218Z
SUMMARY:Hochfestgottesdienst mit Speisensegnung (musik.Gest.: Kirchenchor)
DESCRIPTION:https://pfarreien-bistum-augsburg.df-preview.de/hochfestgottesd
 ienst-mit-speisensegnung-musik-gest-kirchenchor_id1668329
DTSTART;TZID=Europe/Berlin:20260405T100000
DURATION:PT30M
LOCATION:St. Nikolaus
END:VEVENT
END:VCALENDAR
