BEGIN:VCALENDAR
VERSION:2.0
PRODID:-//Sabre//Sabre VObject 4.5.8//EN
CALSCALE:GREGORIAN
BEGIN:VEVENT
UID:sabre-vobject-68191288-1dce-4868-a54a-dd73ab95aa6d
DTSTAMP:20260425T103501Z
SUMMARY:Palmweihe und Statio vor der Kirche\, anschl. Eucharistiefeier
DESCRIPTION:https://pfarreien-bistum-augsburg.df-preview.de/palmweihe-und-s
 tatio-vor-der-kirche-anschl-eucharistiefeier_id1668207
DTSTART;TZID=Europe/Berlin:20260329T083000
DURATION:PT30M
LOCATION:St. Ulrich
END:VEVENT
END:VCALENDAR
