BEGIN:VCALENDAR
VERSION:2.0
PRODID:-//Sabre//Sabre VObject 4.5.8//EN
CALSCALE:GREGORIAN
BEGIN:VEVENT
UID:sabre-vobject-9f7af551-8e86-49ac-a85c-9ab991a2a001
DTSTAMP:20260425T004503Z
SUMMARY:Ostergottesdienst
DESCRIPTION:https://pfarreien-bistum-augsburg.df-preview.de/ostergottesdien
 st_id1668104
DTSTART;TZID=Europe/Berlin:20260406T100000
DURATION:PT30M
LOCATION:St. Ulrich
END:VEVENT
END:VCALENDAR
