BEGIN:VCALENDAR
VERSION:2.0
PRODID:-//Sabre//Sabre VObject 4.5.8//EN
CALSCALE:GREGORIAN
BEGIN:VEVENT
UID:sabre-vobject-788d4829-39df-4455-a4ef-2be55f685af9
DTSTAMP:20260425T015207Z
SUMMARY:Hochfestgottesdienst und Pfarrgottesdienst mit Speisensegnung
DESCRIPTION:https://pfarreien-bistum-augsburg.df-preview.de/hochfestgottesd
 ienst-und-pfarrgottesdienst-mit-speisensegnung_id1668103
DTSTART;TZID=Europe/Berlin:20260405T100000
DURATION:PT30M
LOCATION:St. Ulrich
END:VEVENT
END:VCALENDAR
