BEGIN:VCALENDAR
VERSION:2.0
PRODID:-//Sabre//Sabre VObject 4.5.8//EN
CALSCALE:GREGORIAN
BEGIN:VEVENT
UID:sabre-vobject-f571bc9f-468c-4e50-8d7d-e3f690a97359
DTSTAMP:20260425T030724Z
SUMMARY:Karfreitagsliturgie gest. vom WGF-Team
DESCRIPTION:https://pfarreien-bistum-augsburg.df-preview.de/karfreitagslitu
 rgie-gest-vom-wgf-team_id1668102
DTSTART;TZID=Europe/Berlin:20260403T150000
DURATION:PT30M
LOCATION:St. Ulrich
END:VEVENT
END:VCALENDAR
