BEGIN:VCALENDAR
VERSION:2.0
PRODID:-//Sabre//Sabre VObject 4.5.8//EN
CALSCALE:GREGORIAN
BEGIN:VEVENT
UID:sabre-vobject-7fa18552-1e97-442f-bab5-5ded8957dd4b
DTSTAMP:20260424T090722Z
SUMMARY:Passionsandacht mit dem Kirchenchor
DESCRIPTION:https://pfarreien-bistum-augsburg.df-preview.de/passionsandacht
 -mit-dem-kirchenchor_id1667847
DTSTART;TZID=Europe/Berlin:20260329T190000
DURATION:PT30M
LOCATION:Mariä Himmelfahrt
END:VEVENT
END:VCALENDAR
