BEGIN:VCALENDAR
VERSION:2.0
PRODID:-//Sabre//Sabre VObject 4.5.8//EN
CALSCALE:GREGORIAN
BEGIN:VEVENT
UID:sabre-vobject-0bb08b12-0b6a-4d4b-bf00-b98f1f4c497f
DTSTAMP:20260422T031716Z
SUMMARY:Bußgottesdienst
DESCRIPTION:https://pfarreien-bistum-augsburg.df-preview.de/bussgottesdiens
 t_id1667758
DTSTART;TZID=Europe/Berlin:20260318T180000
DURATION:PT30M
LOCATION:St. Vitus
END:VEVENT
END:VCALENDAR
