BEGIN:VCALENDAR
VERSION:2.0
PRODID:-//Sabre//Sabre VObject 4.5.8//EN
CALSCALE:GREGORIAN
BEGIN:VEVENT
UID:sabre-vobject-b5541de4-411b-4d7c-960d-53f978378419
DTSTAMP:20260422T050029Z
SUMMARY:Kaffeetreff im Pfarrheim Unterglauheim
DESCRIPTION:https://pfarreien-bistum-augsburg.df-preview.de/kaffeetreff-im-
 pfarrheim-unterglauheim_id1667754
DTSTART;TZID=Europe/Berlin:20260318T140000
DURATION:PT30M
LOCATION:St. Vitus
END:VEVENT
END:VCALENDAR
