BEGIN:VCALENDAR
VERSION:2.0
PRODID:-//Sabre//Sabre VObject 4.5.8//EN
CALSCALE:GREGORIAN
BEGIN:VEVENT
UID:sabre-vobject-4f72e50c-03e0-4237-bfd1-4805b24ede56
DTSTAMP:20260421T091329Z
SUMMARY:Kreuzwegandacht
DESCRIPTION:https://pfarreien-bistum-augsburg.df-preview.de/kreuzwegandacht
 _id1667582
DTSTART;TZID=Europe/Berlin:20260324T180000
DURATION:PT30M
LOCATION:St. Leonhard
END:VEVENT
END:VCALENDAR
