BEGIN:VCALENDAR
VERSION:2.0
PRODID:-//Sabre//Sabre VObject 4.5.8//EN
CALSCALE:GREGORIAN
BEGIN:VEVENT
UID:sabre-vobject-6815bbcf-c41a-45be-92de-06eb01d90660
DTSTAMP:20260421T111819Z
SUMMARY:Abendmesse
DESCRIPTION:https://pfarreien-bistum-augsburg.df-preview.de/abendmesse_id16
 67326
DTSTART;TZID=Europe/Berlin:20260326T183000
DURATION:PT30M
LOCATION:St. Remigius
END:VEVENT
END:VCALENDAR
