BEGIN:VCALENDAR
VERSION:2.0
PRODID:-//Sabre//Sabre VObject 4.5.8//EN
CALSCALE:GREGORIAN
BEGIN:VEVENT
UID:sabre-vobject-868e991f-f2a2-4069-af6a-6e4bc7355074
DTSTAMP:20260421T223759Z
SUMMARY:Abendmesse
DESCRIPTION:https://pfarreien-bistum-augsburg.df-preview.de/abendmesse_id16
 67323
DTSTART;TZID=Europe/Berlin:20260322T183000
DURATION:PT30M
LOCATION:St. Remigius
END:VEVENT
END:VCALENDAR
