BEGIN:VCALENDAR
VERSION:2.0
PRODID:-//Sabre//Sabre VObject 4.5.8//EN
CALSCALE:GREGORIAN
BEGIN:VEVENT
UID:sabre-vobject-6fdbe8fd-4b07-4162-87c2-70564319228b
DTSTAMP:20260422T031535Z
SUMMARY:Pfarrgottesdienst
DESCRIPTION:https://pfarreien-bistum-augsburg.df-preview.de/pfarrgottesdien
 st_id1667313
DTSTART;TZID=Europe/Berlin:20260322T090000
DURATION:PT30M
LOCATION:St. Remigius
END:VEVENT
END:VCALENDAR
