BEGIN:VCALENDAR
VERSION:2.0
PRODID:-//Sabre//Sabre VObject 4.5.8//EN
CALSCALE:GREGORIAN
BEGIN:VEVENT
UID:sabre-vobject-2e229908-ad46-4d5a-b3c2-545ee916cdae
DTSTAMP:20260420T194004Z
SUMMARY:Heilige Messe
DESCRIPTION:https://pfarreien-bistum-augsburg.df-preview.de/heilige-messe_i
 d1667304
DTSTART;TZID=Europe/Berlin:20260321T183000
DURATION:PT30M
LOCATION:St. Ulrich und Stephan\, Kirchbergstraße 8\, 86741  Ehingen a. Ri
 es
END:VEVENT
END:VCALENDAR
