BEGIN:VCALENDAR
VERSION:2.0
PRODID:-//Sabre//Sabre VObject 4.5.8//EN
CALSCALE:GREGORIAN
BEGIN:VEVENT
UID:sabre-vobject-762ede50-a6b0-4f81-a858-c1c49b484fa9
DTSTAMP:20260424T210801Z
SUMMARY:Rosenkranz
DESCRIPTION:https://pfarreien-bistum-augsburg.df-preview.de/rosenkranz_id16
 67288
DTSTART;TZID=Europe/Berlin:20260321T163000
DURATION:PT30M
LOCATION:St. Sebastian
END:VEVENT
END:VCALENDAR
