BEGIN:VCALENDAR
VERSION:2.0
PRODID:-//Sabre//Sabre VObject 4.5.8//EN
CALSCALE:GREGORIAN
BEGIN:VEVENT
UID:sabre-vobject-e0a063ab-7d2d-4e24-ac8f-e3fdc522afc9
DTSTAMP:20260425T013909Z
SUMMARY:"Indien" - viele Menschen\, viele Kulturen\, viele Religionen" - In
 dien\, ein Land mit vielen Gesichtern. Ein Erlebnis- und Erfahrungsbericht
  - Referent: Alois Widmann\, Pastoralreferent im Pfar
DESCRIPTION:https://pfarreien-bistum-augsburg.df-preview.de/indien-viele-me
 nschen-viele-kulturen-viele-religionen-indien-ein-land-mit-vielen-gesichte
 rn-ein-erlebnis-und-erfahrungsbericht-referent-alois-widmann-pastoralrefer
 ent-im-pfar_id1667284
DTSTART;TZID=Europe/Berlin:20260319T140000
DURATION:PT30M
LOCATION:St. Sebastian
END:VEVENT
END:VCALENDAR
