BEGIN:VCALENDAR
VERSION:2.0
PRODID:-//Sabre//Sabre VObject 4.5.8//EN
CALSCALE:GREGORIAN
BEGIN:VEVENT
UID:sabre-vobject-7370151b-53a6-40a9-afe9-a71b3e4e0cd6
DTSTAMP:20260424T060540Z
SUMMARY:Rosenkranz
DESCRIPTION:https://pfarreien-bistum-augsburg.df-preview.de/rosenkranz_id16
 67252
DTSTART;TZID=Europe/Berlin:20260324T163000
DURATION:PT30M
LOCATION:St. Sebastian
END:VEVENT
END:VCALENDAR
