BEGIN:VCALENDAR
VERSION:2.0
PRODID:-//Sabre//Sabre VObject 4.5.8//EN
CALSCALE:GREGORIAN
BEGIN:VEVENT
UID:sabre-vobject-eec205af-aaa8-4f57-8898-ce13dc213c15
DTSTAMP:20260424T001833Z
SUMMARY:Offenes Ohr (Pfarrer Hörmann): Möglichkeit zu Gespräch\, Austaus
 ch\, Beichte\, Segen u.a. (Gesprächszimmer im Pfarrbüro ohne Anmeldung)
DESCRIPTION:https://pfarreien-bistum-augsburg.df-preview.de/offenes-ohr-pfa
 rrer-hoermann-moeglichkeit-zu-gespraech-austausch-beichte-segen-u-a-gespra
 echszimmer-im-pfarrbuero-ohne-anmeldung_id1667202
DTSTART;TZID=Europe/Berlin:20260325T170000
DURATION:PT30M
LOCATION:St. Sebastian
END:VEVENT
END:VCALENDAR
