BEGIN:VCALENDAR
VERSION:2.0
PRODID:-//Sabre//Sabre VObject 4.5.8//EN
CALSCALE:GREGORIAN
BEGIN:VEVENT
UID:sabre-vobject-0876875b-b493-416c-a903-32c3f6c06546
DTSTAMP:20260422T140854Z
SUMMARY:Oasenzeit des Bezirks\, Nördlingen St. Salvator " Unterwegs mit le
 ichtem Gepäck" (Kolping)
DESCRIPTION:https://pfarreien-bistum-augsburg.df-preview.de/oasenzeit-des-b
 ezirks-noerdlingen-st-salvator-unterwegs-mit-leichtem-gepaeck-kolping_id16
 67194
DTSTART;TZID=Europe/Berlin:20260328T140000
DURATION:PT30M
LOCATION:St. Sebastian
END:VEVENT
END:VCALENDAR
