BEGIN:VCALENDAR
VERSION:2.0
PRODID:-//Sabre//Sabre VObject 4.5.8//EN
CALSCALE:GREGORIAN
BEGIN:VEVENT
UID:sabre-vobject-e244cb75-ea42-42f9-bb77-c71593f2a067
DTSTAMP:20260424T001152Z
SUMMARY:Heilige Messe zum Hochfest Verkündigung des Herrn
DESCRIPTION:https://pfarreien-bistum-augsburg.df-preview.de/heilige-messe-z
 um-hochfest-verkuendigung-des-herrn_id1667179
DTSTART;TZID=Europe/Berlin:20260325T183000
DURATION:PT30M
LOCATION:St. Sebastian
END:VEVENT
END:VCALENDAR
