BEGIN:VCALENDAR
VERSION:2.0
PRODID:-//Sabre//Sabre VObject 4.5.8//EN
CALSCALE:GREGORIAN
BEGIN:VEVENT
UID:sabre-vobject-ca666d83-4136-40f3-9a73-e3fccb4d0dff
DTSTAMP:20260421T071943Z
SUMMARY:Kreuzwegandacht gestaltet von unseren Ministranten - Herzliche Einl
 adung an alle!!
DESCRIPTION:https://pfarreien-bistum-augsburg.df-preview.de/kreuzwegandacht
 -gestaltet-von-unseren-ministranten-herzliche-einladung-an-alle_id1667144
DTSTART;TZID=Europe/Berlin:20260320T183000
DURATION:PT30M
LOCATION:St. Margareta\, Dorfstraße 22\, 86754 LAub
END:VEVENT
END:VCALENDAR
