BEGIN:VCALENDAR
VERSION:2.0
PRODID:-//Sabre//Sabre VObject 4.5.8//EN
CALSCALE:GREGORIAN
BEGIN:VEVENT
UID:sabre-vobject-889f6e8e-c9b7-4f20-b474-ea61f52a93a2
DTSTAMP:20260422T031541Z
SUMMARY:Abendmesse
DESCRIPTION:https://pfarreien-bistum-augsburg.df-preview.de/abendmesse_id16
 67048
DTSTART;TZID=Europe/Berlin:20260326T190000
DURATION:PT30M
LOCATION:Kuratie St. Johannes Baptist\, St. Johannes Straße 2\, 89257 Ille
 rtissen
END:VEVENT
END:VCALENDAR
