BEGIN:VCALENDAR
VERSION:2.0
PRODID:-//Sabre//Sabre VObject 4.5.8//EN
CALSCALE:GREGORIAN
BEGIN:VEVENT
UID:sabre-vobject-bdb7c5f8-adcb-40b6-b102-761de93b5685
DTSTAMP:20260422T000410Z
SUMMARY:Festgottesdienst
DESCRIPTION:https://pfarreien-bistum-augsburg.df-preview.de/festgottesdiens
 t_id1667042
DTSTART;TZID=Europe/Berlin:20260329T090000
DURATION:PT30M
LOCATION:Pfarrkirche Mariä Himmelfahrt\, Kirchplatz 1\, 89257 Illertissen
END:VEVENT
END:VCALENDAR
