BEGIN:VCALENDAR
VERSION:2.0
PRODID:-//Sabre//Sabre VObject 4.5.8//EN
CALSCALE:GREGORIAN
BEGIN:VEVENT
UID:sabre-vobject-9b7d0104-be8b-4219-bb96-bbe612826c0e
DTSTAMP:20260425T223039Z
SUMMARY:Bußgottesdienst "Sei Schale - nicht Kanal"\, anschl. Beichtgelegen
 heit
DESCRIPTION:https://pfarreien-bistum-augsburg.df-preview.de/bussgottesdiens
 t-sei-schale-nicht-kanal-anschl-beichtgelegenheit_id1660798
DTSTART;TZID=Europe/Berlin:20260318T191500
DURATION:PT30M
LOCATION:St. Georg
END:VEVENT
END:VCALENDAR
