BEGIN:VCALENDAR
VERSION:2.0
PRODID:-//Sabre//Sabre VObject 4.5.8//EN
CALSCALE:GREGORIAN
BEGIN:VEVENT
UID:sabre-vobject-aca09d64-c7cf-4529-9289-27ace1b85143
DTSTAMP:20260421T022725Z
SUMMARY:Heilige Messe
DESCRIPTION:https://pfarreien-bistum-augsburg.df-preview.de/heilige-messe_i
 d1657306
DTSTART;TZID=Europe/Berlin:20261120T090000
DURATION:PT30M
LOCATION:St. Johannes Baptist
END:VEVENT
END:VCALENDAR
