BEGIN:VCALENDAR
VERSION:2.0
PRODID:-//Sabre//Sabre VObject 4.5.8//EN
CALSCALE:GREGORIAN
BEGIN:VEVENT
UID:sabre-vobject-7373fe6d-8680-4a3f-bf09-c0d191c47b9e
DTSTAMP:20260424T211026Z
SUMMARY:Heilige Messe
DESCRIPTION:https://pfarreien-bistum-augsburg.df-preview.de/heilige-messe_i
 d1657260
DTSTART;TZID=Europe/Berlin:20260812T160000
DURATION:PT30M
LOCATION:St. Michael
END:VEVENT
END:VCALENDAR
