BEGIN:VCALENDAR
VERSION:2.0
PRODID:-//Sabre//Sabre VObject 4.5.8//EN
CALSCALE:GREGORIAN
BEGIN:VEVENT
UID:sabre-vobject-45c7097f-3ead-492d-8bd4-d3065e6db08d
DTSTAMP:20260424T184952Z
SUMMARY:Heilige Messe
DESCRIPTION:https://pfarreien-bistum-augsburg.df-preview.de/heilige-messe_i
 d1657256
DTSTART;TZID=Europe/Berlin:20260916T160000
DURATION:PT30M
LOCATION:St. Michael
END:VEVENT
END:VCALENDAR
