BEGIN:VCALENDAR
VERSION:2.0
PRODID:-//Sabre//Sabre VObject 4.5.8//EN
CALSCALE:GREGORIAN
BEGIN:VEVENT
UID:sabre-vobject-3b477d6e-a544-4d89-a875-872d1db18c5f
DTSTAMP:20260424T032639Z
SUMMARY:Pfarrgottesdienst
DESCRIPTION:https://pfarreien-bistum-augsburg.df-preview.de/pfarrgottesdien
 st_id1657241
DTSTART;TZID=Europe/Berlin:20260719T083000
DURATION:PT30M
LOCATION:St. Michael
END:VEVENT
END:VCALENDAR
