BEGIN:VCALENDAR
VERSION:2.0
PRODID:-//Sabre//Sabre VObject 4.5.8//EN
CALSCALE:GREGORIAN
BEGIN:VEVENT
UID:sabre-vobject-5fe38fc3-983d-46a3-9d17-ef6fb1ffb56e
DTSTAMP:20260424T002404Z
SUMMARY:Pfarrgottesdienst
DESCRIPTION:https://pfarreien-bistum-augsburg.df-preview.de/pfarrgottesdien
 st_id1657238
DTSTART;TZID=Europe/Berlin:20260621T083000
DURATION:PT30M
LOCATION:St. Michael
END:VEVENT
END:VCALENDAR
