BEGIN:VCALENDAR
VERSION:2.0
PRODID:-//Sabre//Sabre VObject 4.5.8//EN
CALSCALE:GREGORIAN
BEGIN:VEVENT
UID:sabre-vobject-fa5bf612-df2c-4e29-ae37-5be1809fdad7
DTSTAMP:20260423T185235Z
SUMMARY:Pfarrgottesdienst
DESCRIPTION:https://pfarreien-bistum-augsburg.df-preview.de/pfarrgottesdien
 st_id1657232
DTSTART;TZID=Europe/Berlin:20260531T083000
DURATION:PT30M
LOCATION:St. Michael
END:VEVENT
END:VCALENDAR
