BEGIN:VCALENDAR
VERSION:2.0
PRODID:-//Sabre//Sabre VObject 4.5.8//EN
CALSCALE:GREGORIAN
BEGIN:VEVENT
UID:sabre-vobject-add4d7f2-a8b2-485d-952d-f85017b27668
DTSTAMP:20260425T001904Z
SUMMARY:Heilige Messe
DESCRIPTION:https://pfarreien-bistum-augsburg.df-preview.de/heilige-messe_i
 d1657220
DTSTART;TZID=Europe/Berlin:20260415T160000
DURATION:PT30M
LOCATION:St. Michael
END:VEVENT
END:VCALENDAR
