BEGIN:VCALENDAR
VERSION:2.0
PRODID:-//Sabre//Sabre VObject 4.5.8//EN
CALSCALE:GREGORIAN
BEGIN:VEVENT
UID:sabre-vobject-4e1ffbfc-87b5-46fa-bcdf-4a66798b3451
DTSTAMP:20260424T141314Z
SUMMARY:Messfeier
DESCRIPTION:https://pfarreien-bistum-augsburg.df-preview.de/messfeier_id165
 2324
DTSTART;TZID=Europe/Berlin:20260327T093000
DURATION:PT30M
LOCATION:St. Georg
END:VEVENT
END:VCALENDAR
