BEGIN:VCALENDAR
VERSION:2.0
PRODID:-//Sabre//Sabre VObject 4.5.8//EN
CALSCALE:GREGORIAN
BEGIN:VEVENT
UID:sabre-vobject-9f2aba95-34bf-4fd8-9b91-3b2815b476c1
DTSTAMP:20260421T021223Z
SUMMARY:Rosenkranz
DESCRIPTION:https://pfarreien-bistum-augsburg.df-preview.de/rosenkranz_id16
 52239
DTSTART;TZID=Europe/Berlin:20260327T170000
DURATION:PT30M
LOCATION:St. Christophorus
END:VEVENT
END:VCALENDAR
