BEGIN:VCALENDAR
VERSION:2.0
PRODID:-//Sabre//Sabre VObject 4.5.8//EN
CALSCALE:GREGORIAN
BEGIN:VEVENT
UID:sabre-vobject-dae98be8-3539-4e96-81a6-e3090936ca2e
DTSTAMP:20260423T221630Z
SUMMARY:Messfeier
DESCRIPTION:https://pfarreien-bistum-augsburg.df-preview.de/messfeier_id165
 2201
DTSTART;TZID=Europe/Berlin:20260324T093000
DURATION:PT30M
LOCATION:St. Christophorus
END:VEVENT
END:VCALENDAR
