BEGIN:VCALENDAR
VERSION:2.0
PRODID:-//Sabre//Sabre VObject 4.5.8//EN
CALSCALE:GREGORIAN
BEGIN:VEVENT
UID:sabre-vobject-a3592ece-f536-495c-a03a-0054ed784693
DTSTAMP:20260424T194800Z
SUMMARY:Palmweihe auf dem Kirchplatz\, anschl. Messfeier (Winni Lau)
DESCRIPTION:https://pfarreien-bistum-augsburg.df-preview.de/palmweihe-auf-d
 em-kirchplatz-anschl-messfeier-winni-lau_id1651905
DTSTART;TZID=Europe/Berlin:20260329T110000
DURATION:PT30M
LOCATION:St. Johannes der Täufer
END:VEVENT
END:VCALENDAR
