BEGIN:VCALENDAR
VERSION:2.0
PRODID:-//Sabre//Sabre VObject 4.5.8//EN
CALSCALE:GREGORIAN
BEGIN:VEVENT
UID:sabre-vobject-9966f6bf-37a7-463c-9211-a2b1304104c4
DTSTAMP:20260421T094305Z
SUMMARY:Küchenrosenkranzgebet in Christkönig\, Weßling
DESCRIPTION:https://pfarreien-bistum-augsburg.df-preview.de/kuechenrosenkra
 nzgebet-in-christkoenig-wessling_id1646410
DTSTART;TZID=Europe/Berlin:20260324T183000
DURATION:PT30M
LOCATION:Christkönig
END:VEVENT
END:VCALENDAR
