BEGIN:VCALENDAR
VERSION:2.0
PRODID:-//Sabre//Sabre VObject 4.5.8//EN
CALSCALE:GREGORIAN
BEGIN:VEVENT
UID:sabre-vobject-f52b3fc0-1aa8-48cb-bf63-1c1ccf9eca78
DTSTAMP:20260422T002846Z
SUMMARY:Heilige Messe in Maria Hilf\, Grünsink
DESCRIPTION:https://pfarreien-bistum-augsburg.df-preview.de/heilige-messe-i
 n-maria-hilf-gruensink_id1646409
DTSTART;TZID=Europe/Berlin:20260320T180000
DURATION:PT30M
LOCATION:Christkönig
END:VEVENT
END:VCALENDAR
