BEGIN:VCALENDAR
VERSION:2.0
PRODID:-//Sabre//Sabre VObject 4.5.8//EN
CALSCALE:GREGORIAN
BEGIN:VEVENT
UID:sabre-vobject-2c744696-8ade-4f64-a9e6-d398a9ec04de
DTSTAMP:20260421T213415Z
SUMMARY:Rosenkranzgebet in St. Georg\, Oberpfaffenhofen
DESCRIPTION:https://pfarreien-bistum-augsburg.df-preview.de/rosenkranzgebet
 -in-st-georg-oberpfaffenhofen_id1646312
DTSTART;TZID=Europe/Berlin:20260319T180000
DURATION:PT30M
LOCATION:St. Georg
END:VEVENT
END:VCALENDAR
