BEGIN:VCALENDAR
VERSION:2.0
PRODID:-//Sabre//Sabre VObject 4.5.8//EN
CALSCALE:GREGORIAN
BEGIN:VEVENT
UID:sabre-vobject-ab7cabc3-1844-48b5-9412-08d0f2c4d42c
DTSTAMP:20260421T111339Z
SUMMARY:Palmweihe am Kirchplatz\, anschl. Heilige Messe zu Palmsonntag
DESCRIPTION:https://pfarreien-bistum-augsburg.df-preview.de/palmweihe-am-ki
 rchplatz-anschl-heilige-messe-zu-palmsonntag_id1640765
DTSTART;TZID=Europe/Berlin:20260329T101500
DURATION:PT30M
LOCATION:St. Peter und Paul\, Kirchpl. 4\, 82387 Antdorf
END:VEVENT
END:VCALENDAR
