BEGIN:VCALENDAR
VERSION:2.0
PRODID:-//Sabre//Sabre VObject 4.5.8//EN
CALSCALE:GREGORIAN
BEGIN:VEVENT
UID:sabre-vobject-37487e8d-dcf1-4975-80d0-1de50bce034f
DTSTAMP:20260422T145635Z
SUMMARY:Erstbeichte zur Erstkommunion
DESCRIPTION:https://pfarreien-bistum-augsburg.df-preview.de/erstbeichte-zur
 -erstkommunion_id1640760
DTSTART;TZID=Europe/Berlin:20260319T160000
DURATION:PT30M
LOCATION:St. Peter und Paul\, Kirchpl. 4\, 82387 Antdorf
END:VEVENT
END:VCALENDAR
