BEGIN:VCALENDAR
VERSION:2.0
PRODID:-//Sabre//Sabre VObject 4.5.8//EN
CALSCALE:GREGORIAN
BEGIN:VEVENT
UID:sabre-vobject-274957b9-9b30-4ea0-94e5-8bd021a08e08
DTSTAMP:20260424T063402Z
SUMMARY:Priesterdonnerstag
DESCRIPTION:https://pfarreien-bistum-augsburg.df-preview.de/priesterdonners
 tag_id1635590
DTSTART;TZID=Europe/Berlin:20260702T000000
DURATION:PT30M
LOCATION:Augsburger Dom Hlgst. Herz Jesu\, Frauentorstraße 1\, 86152 Augsb
 urg-Dom
END:VEVENT
END:VCALENDAR
