BEGIN:VCALENDAR
VERSION:2.0
PRODID:-//Sabre//Sabre VObject 4.5.8//EN
CALSCALE:GREGORIAN
BEGIN:VEVENT
UID:sabre-vobject-043155ee-e0b8-4484-b045-d583d88e0904
DTSTAMP:20260421T213059Z
SUMMARY:Kapitelamt
DESCRIPTION:https://pfarreien-bistum-augsburg.df-preview.de/kapitelamt_id16
 35554
DTSTART;TZID=Europe/Berlin:20271031T090000
DURATION:PT30M
LOCATION:Augsburger Dom Hlgst. Herz Jesu\, Frauentorstraße 1\, 86152 Augsb
 urg-Dom
END:VEVENT
END:VCALENDAR
