BEGIN:VCALENDAR
VERSION:2.0
PRODID:-//Sabre//Sabre VObject 4.5.8//EN
CALSCALE:GREGORIAN
BEGIN:VEVENT
UID:sabre-vobject-c9254e1d-6570-4efa-b044-b6fed32ba039
DTSTAMP:20260421T223459Z
SUMMARY:Dompredigermesse
DESCRIPTION:https://pfarreien-bistum-augsburg.df-preview.de/dompredigermess
 e_id1635402
DTSTART;TZID=Europe/Berlin:20261122T113000
DURATION:PT30M
LOCATION:Augsburger Dom Hlgst. Herz Jesu\, Frauentorstraße 1\, 86152 Augsb
 urg-Dom
END:VEVENT
END:VCALENDAR
