BEGIN:VCALENDAR
VERSION:2.0
PRODID:-//Sabre//Sabre VObject 4.5.8//EN
CALSCALE:GREGORIAN
BEGIN:VEVENT
UID:sabre-vobject-05151dc9-6bc8-4019-a506-92416e8afc0d
DTSTAMP:20260422T114700Z
SUMMARY:Kapitelamt
DESCRIPTION:https://pfarreien-bistum-augsburg.df-preview.de/kapitelamt_id16
 35400
DTSTART;TZID=Europe/Berlin:20261122T090000
DURATION:PT30M
LOCATION:Augsburger Dom Hlgst. Herz Jesu\, Frauentorstraße 1\, 86152 Augsb
 urg-Dom
END:VEVENT
END:VCALENDAR
