BEGIN:VCALENDAR
VERSION:2.0
PRODID:-//Sabre//Sabre VObject 4.5.8//EN
CALSCALE:GREGORIAN
BEGIN:VEVENT
UID:sabre-vobject-c37242a1-27b6-424c-80bd-861d755e7e19
DTSTAMP:20260424T055201Z
SUMMARY:Laudes\, Hl. Messe nach Meinung des Domkapitels
DESCRIPTION:https://pfarreien-bistum-augsburg.df-preview.de/laudes-hl-messe
 -nach-meinung-des-domkapitels_id1635351
DTSTART;TZID=Europe/Berlin:20270906T070000
DURATION:PT30M
LOCATION:Augsburger Dom Hlgst. Herz Jesu\, Frauentorstraße 1\, 86152 Augsb
 urg-Dom
END:VEVENT
END:VCALENDAR
