BEGIN:VCALENDAR
VERSION:2.0
PRODID:-//Sabre//Sabre VObject 4.5.8//EN
CALSCALE:GREGORIAN
BEGIN:VEVENT
UID:sabre-vobject-b5490c8b-12ff-4559-81c8-9dbbe15f59b8
DTSTAMP:20260425T001838Z
SUMMARY:Dompredigermesse
DESCRIPTION:https://pfarreien-bistum-augsburg.df-preview.de/dompredigermess
 e_id1635314
DTSTART;TZID=Europe/Berlin:20260628T113000
DURATION:PT30M
LOCATION:Augsburger Dom Hlgst. Herz Jesu\, Frauentorstraße 1\, 86152 Augsb
 urg-Dom
END:VEVENT
END:VCALENDAR
